Package: specL Version: 1.41.0 Command: rm -rf specL.buildbin-libdir && mkdir specL.buildbin-libdir && /Users/biocbuild/BBS/utils/build-universal.sh specL_1.41.0.tar.gz /Library/Frameworks/R.framework/Resources/bin/R specL.buildbin-libdir StartedAt: 2025-02-13 01:00:37 -0500 (Thu, 13 Feb 2025) EndedAt: 2025-02-13 01:00:49 -0500 (Thu, 13 Feb 2025) EllapsedTime: 11.5 seconds RetCode: 0 Status: OK PackageFile: specL_1.41.0.tgz PackageFileSize: 2.347 MiB