Package: specL Version: 1.41.0 Command: /Library/Frameworks/R.framework/Resources/bin/R CMD check --install=check:specL.install-out.txt --library=/Library/Frameworks/R.framework/Resources/library --no-vignettes --timings specL_1.41.0.tar.gz StartedAt: 2025-02-09 23:49:33 -0500 (Sun, 09 Feb 2025) EndedAt: 2025-02-09 23:50:31 -0500 (Sun, 09 Feb 2025) EllapsedTime: 58.6 seconds RetCode: 0 Status: OK CheckDir: specL.Rcheck Warnings: 0