Package: specL Version: 1.41.0 Command: /home/biocbuild/bbs-3.21-bioc/R/bin/R CMD INSTALL specL StartedAt: 2025-02-09 15:06:43 -0500 (Sun, 09 Feb 2025) EndedAt: 2025-02-09 15:07:16 -0500 (Sun, 09 Feb 2025) EllapsedTime: 33.2 seconds RetCode: 0 Status: OK