Package: specL Version: 1.41.0 Command: chmod a+r specL -R && E:\biocbuild\bbs-3.21-bioc\R\bin\R.exe CMD build --keep-empty-dirs --no-resave-data specL StartedAt: 2025-02-09 21:50:04 -0500 (Sun, 09 Feb 2025) EndedAt: 2025-02-09 21:50:44 -0500 (Sun, 09 Feb 2025) EllapsedTime: 39.9 seconds RetCode: 0 Status: OK PackageFile: specL_1.41.0.tar.gz PackageFileSize: 1.387 MiB