Package: speckle Version: 1.7.0 Command: /Library/Frameworks/R.framework/Resources/bin/R CMD check --install=check:speckle.install-out.txt --library=/Library/Frameworks/R.framework/Resources/library --no-vignettes --timings speckle_1.7.0.tar.gz StartedAt: 2025-02-09 21:31:40 -0500 (Sun, 09 Feb 2025) EndedAt: 2025-02-09 21:33:14 -0500 (Sun, 09 Feb 2025) EllapsedTime: 94.1 seconds RetCode: 0 Status: OK CheckDir: speckle.Rcheck Warnings: 0