Package: speckle Version: 1.7.0 Command: /home/biocbuild/R/R/bin/R CMD build --keep-empty-dirs --no-resave-data speckle StartedAt: 2025-01-28 02:39:21 -0000 (Tue, 28 Jan 2025) EndedAt: 2025-01-28 02:41:20 -0000 (Tue, 28 Jan 2025) EllapsedTime: 119.1 seconds RetCode: 0 Status: OK PackageFile: speckle_1.7.0.tar.gz PackageFileSize: 778.8 KiB