Package: speckle Version: 1.7.0 Command: rm -rf speckle.buildbin-libdir && mkdir speckle.buildbin-libdir && /Users/biocbuild/BBS/utils/build-universal.sh speckle_1.7.0.tar.gz /Library/Frameworks/R.framework/Resources/bin/R speckle.buildbin-libdir StartedAt: 2025-02-13 01:00:37 -0500 (Thu, 13 Feb 2025) EndedAt: 2025-02-13 01:01:29 -0500 (Thu, 13 Feb 2025) EllapsedTime: 52.0 seconds RetCode: 0 Status: OK PackageFile: speckle_1.7.0.tgz PackageFileSize: 1.404 MiB