Package: speckle Version: 1.7.0 Command: /home/biocbuild/bbs-3.21-bioc/R/bin/R CMD build --keep-empty-dirs --no-resave-data speckle StartedAt: 2025-02-09 19:24:41 -0500 (Sun, 09 Feb 2025) EndedAt: 2025-02-09 19:26:04 -0500 (Sun, 09 Feb 2025) EllapsedTime: 83.1 seconds RetCode: 0 Status: OK PackageFile: speckle_1.7.0.tar.gz PackageFileSize: 1.372 MiB