Package: speckle Version: 1.7.0 Command: /home/biocbuild/bbs-3.21-bioc/R/bin/R CMD INSTALL speckle StartedAt: 2025-02-09 15:22:42 -0500 (Sun, 09 Feb 2025) EndedAt: 2025-02-09 15:23:17 -0500 (Sun, 09 Feb 2025) EllapsedTime: 35.7 seconds RetCode: 0 Status: OK