Package: speckle Version: 1.7.0 Command: rm -rf speckle.buildbin-libdir && mkdir speckle.buildbin-libdir && E:\biocbuild\bbs-3.21-bioc\R\bin\R.exe CMD INSTALL --build --library=speckle.buildbin-libdir speckle_1.7.0.tar.gz StartedAt: 2025-02-10 08:46:57 -0500 (Mon, 10 Feb 2025) EndedAt: 2025-02-10 08:47:46 -0500 (Mon, 10 Feb 2025) EllapsedTime: 48.5 seconds RetCode: 0 Status: OK PackageFile: speckle_1.7.0.zip PackageFileSize: 582.9 KiB