Package: speckle Version: 1.7.0 Command: chmod a+r speckle -R && E:\biocbuild\bbs-3.21-bioc\R\bin\R.exe CMD build --keep-empty-dirs --no-resave-data speckle StartedAt: 2025-02-12 21:57:28 -0500 (Wed, 12 Feb 2025) EndedAt: 2025-02-12 21:59:14 -0500 (Wed, 12 Feb 2025) EllapsedTime: 105.9 seconds RetCode: 0 Status: OK PackageFile: speckle_1.7.0.tar.gz PackageFileSize: 559.2 KiB