Package: speckle Version: 1.7.0 Command: E:\biocbuild\bbs-3.21-bioc\R\bin\R.exe CMD check --no-multiarch --install=check:speckle.install-out.txt --library=E:\biocbuild\bbs-3.21-bioc\R\library --no-vignettes --timings speckle_1.7.0.tar.gz StartedAt: 2025-02-10 05:44:10 -0500 (Mon, 10 Feb 2025) EndedAt: 2025-02-10 05:49:03 -0500 (Mon, 10 Feb 2025) EllapsedTime: 293.6 seconds RetCode: 0 Status: OK CheckDir: speckle.Rcheck Warnings: 0