Package: spicyR Version: 1.19.3 Command: rm -rf spicyR.buildbin-libdir && mkdir spicyR.buildbin-libdir && /Users/biocbuild/BBS/utils/build-universal.sh spicyR_1.19.3.tar.gz /Library/Frameworks/R.framework/Resources/bin/R spicyR.buildbin-libdir StartedAt: 2025-02-09 22:32:10 -0500 (Sun, 09 Feb 2025) EndedAt: 2025-02-09 22:32:28 -0500 (Sun, 09 Feb 2025) EllapsedTime: 17.4 seconds RetCode: 0 Status: OK PackageFile: spicyR_1.19.3.tgz PackageFileSize: 3.811 MiB