Package: spicyR Version: 1.19.3 Command: /Library/Frameworks/R.framework/Resources/bin/R CMD check --install=check:spicyR.install-out.txt --library=/Library/Frameworks/R.framework/Resources/library --no-vignettes --timings spicyR_1.19.3.tar.gz StartedAt: 2025-02-09 21:33:08 -0500 (Sun, 09 Feb 2025) EndedAt: 2025-02-09 21:35:09 -0500 (Sun, 09 Feb 2025) EllapsedTime: 121.4 seconds RetCode: 0 Status: OK CheckDir: spicyR.Rcheck Warnings: 0