Package: spicyR Version: 1.19.3 Command: /Library/Frameworks/R.framework/Resources/bin/R CMD INSTALL spicyR StartedAt: 2025-02-09 15:28:30 -0500 (Sun, 09 Feb 2025) EndedAt: 2025-02-09 15:28:45 -0500 (Sun, 09 Feb 2025) EllapsedTime: 15.5 seconds RetCode: 0 Status: OK