Package: spicyR Version: 1.19.3 Command: /home/biocbuild/R/R/bin/R CMD INSTALL spicyR StartedAt: 2025-01-29 20:34:41 -0000 (Wed, 29 Jan 2025) EndedAt: 2025-01-29 20:34:42 -0000 (Wed, 29 Jan 2025) EllapsedTime: 1.0 seconds RetCode: 1 Status: ERROR