Package: spicyR Version: 1.19.3 Command: /Library/Frameworks/R.framework/Resources/bin/R CMD build --keep-empty-dirs --no-resave-data spicyR StartedAt: 2025-02-04 18:26:29 -0500 (Tue, 04 Feb 2025) EndedAt: 2025-02-04 18:31:39 -0500 (Tue, 04 Feb 2025) EllapsedTime: 309.9 seconds RetCode: 0 Status: OK PackageFile: spicyR_1.19.3.tar.gz PackageFileSize: 3.277 MiB