Package: spicyR Version: 1.19.3 Command: rm -rf spicyR.buildbin-libdir && mkdir spicyR.buildbin-libdir && E:\biocbuild\bbs-3.21-bioc\R\bin\R.exe CMD INSTALL --build --library=spicyR.buildbin-libdir spicyR_1.19.3.tar.gz StartedAt: 2025-02-05 08:59:41 -0500 (Wed, 05 Feb 2025) EndedAt: 2025-02-05 09:00:49 -0500 (Wed, 05 Feb 2025) EllapsedTime: 68.3 seconds RetCode: 0 Status: OK PackageFile: spicyR_1.19.3.zip PackageFileSize: 3.076 MiB