Package: spicyR Version: 1.19.3 Command: chmod a+r spicyR -R && E:\biocbuild\bbs-3.21-bioc\R\bin\R.exe CMD build --keep-empty-dirs --no-resave-data spicyR StartedAt: 2025-02-04 21:53:30 -0500 (Tue, 04 Feb 2025) EndedAt: 2025-02-04 21:59:45 -0500 (Tue, 04 Feb 2025) EllapsedTime: 375.5 seconds RetCode: 0 Status: OK PackageFile: spicyR_1.19.3.tar.gz PackageFileSize: 2.543 MiB