Package: spicyR Version: 1.19.3 Command: E:\biocbuild\bbs-3.21-bioc\R\bin\R.exe CMD check --no-multiarch --install=check:spicyR.install-out.txt --library=E:\biocbuild\bbs-3.21-bioc\R\library --no-vignettes --timings spicyR_1.19.3.tar.gz StartedAt: 2025-02-05 06:10:36 -0500 (Wed, 05 Feb 2025) EndedAt: 2025-02-05 06:17:14 -0500 (Wed, 05 Feb 2025) EllapsedTime: 397.9 seconds RetCode: 0 Status: OK CheckDir: spicyR.Rcheck Warnings: 0