Package: spicyR Version: 1.19.3 Command: E:\biocbuild\bbs-3.21-bioc\R\bin\R.exe CMD INSTALL spicyR StartedAt: 2025-02-04 16:55:04 -0500 (Tue, 04 Feb 2025) EndedAt: 2025-02-04 16:56:02 -0500 (Tue, 04 Feb 2025) EllapsedTime: 57.3 seconds RetCode: 0 Status: OK