Package: spikeLI Version: 2.67.0 Command: rm -rf spikeLI.buildbin-libdir && mkdir spikeLI.buildbin-libdir && /Users/biocbuild/BBS/utils/build-universal.sh spikeLI_2.67.0.tar.gz /Library/Frameworks/R.framework/Resources/bin/R spikeLI.buildbin-libdir StartedAt: 2025-02-03 23:07:52 -0500 (Mon, 03 Feb 2025) EndedAt: 2025-02-03 23:07:54 -0500 (Mon, 03 Feb 2025) EllapsedTime: 2.1 seconds RetCode: 0 Status: OK PackageFile: spikeLI_2.67.0.tgz PackageFileSize: 418.8 KiB