Package: spikeLI Version: 2.67.0 Command: /Library/Frameworks/R.framework/Resources/bin/R CMD build --keep-empty-dirs --no-resave-data spikeLI StartedAt: 2025-02-09 17:42:26 -0500 (Sun, 09 Feb 2025) EndedAt: 2025-02-09 17:42:30 -0500 (Sun, 09 Feb 2025) EllapsedTime: 4.1 seconds RetCode: 0 Status: OK PackageFile: spikeLI_2.67.0.tar.gz PackageFileSize: 393.8 KiB