Package: spikeLI Version: 2.67.0 Command: /Library/Frameworks/R.framework/Resources/bin/R CMD check --install=check:spikeLI.install-out.txt --library=/Library/Frameworks/R.framework/Resources/library --no-vignettes --timings spikeLI_2.67.0.tar.gz StartedAt: 2025-02-03 22:09:07 -0500 (Mon, 03 Feb 2025) EndedAt: 2025-02-03 22:09:19 -0500 (Mon, 03 Feb 2025) EllapsedTime: 12.2 seconds RetCode: 0 Status: OK CheckDir: spikeLI.Rcheck Warnings: 0