Package: spikeLI Version: 2.67.0 Command: /Library/Frameworks/R.framework/Resources/bin/R CMD INSTALL spikeLI StartedAt: 2025-02-09 15:01:00 -0500 (Sun, 09 Feb 2025) EndedAt: 2025-02-09 15:01:01 -0500 (Sun, 09 Feb 2025) EllapsedTime: 1.3 seconds RetCode: 0 Status: OK