Package: spikeLI Version: 2.67.0 Command: /home/biocbuild/R/R/bin/R CMD build --keep-empty-dirs --no-resave-data spikeLI StartedAt: 2025-01-28 02:40:39 -0000 (Tue, 28 Jan 2025) EndedAt: 2025-01-28 02:40:45 -0000 (Tue, 28 Jan 2025) EllapsedTime: 6.0 seconds RetCode: 0 Status: OK PackageFile: spikeLI_2.67.0.tar.gz PackageFileSize: 377.8 KiB