Package: spikeLI Version: 2.67.0 Command: /home/biocbuild/R/R/bin/R CMD check --install=check:spikeLI.install-out.txt --library=/home/biocbuild/R/R/site-library --no-vignettes --timings spikeLI_2.67.0.tar.gz StartedAt: 2025-01-28 15:40:09 -0000 (Tue, 28 Jan 2025) EndedAt: 2025-01-28 15:40:29 -0000 (Tue, 28 Jan 2025) EllapsedTime: 20.0 seconds RetCode: 0 Status: OK CheckDir: spikeLI.Rcheck Warnings: 0