Package: spikeLI Version: 2.67.0 Command: /home/biocbuild/R/R/bin/R CMD INSTALL spikeLI StartedAt: 2025-01-29 19:29:43 -0000 (Wed, 29 Jan 2025) EndedAt: 2025-01-29 19:29:51 -0000 (Wed, 29 Jan 2025) EllapsedTime: 7.7 seconds RetCode: 0 Status: OK