Package: spikeLI Version: 2.67.0 Command: rm -rf spikeLI.buildbin-libdir && mkdir spikeLI.buildbin-libdir && /Users/biocbuild/BBS/utils/build-universal.sh spikeLI_2.67.0.tar.gz /Library/Frameworks/R.framework/Resources/bin/R spikeLI.buildbin-libdir StartedAt: 2025-02-10 01:18:36 -0500 (Mon, 10 Feb 2025) EndedAt: 2025-02-10 01:18:42 -0500 (Mon, 10 Feb 2025) EllapsedTime: 5.9 seconds RetCode: 0 Status: OK PackageFile: spikeLI_2.67.0.tgz PackageFileSize: 417.5 KiB