Package: spikeLI Version: 2.67.0 Command: /Library/Frameworks/R.framework/Resources/bin/R CMD build --keep-empty-dirs --no-resave-data spikeLI StartedAt: 2025-02-09 18:35:02 -0500 (Sun, 09 Feb 2025) EndedAt: 2025-02-09 18:35:14 -0500 (Sun, 09 Feb 2025) EllapsedTime: 11.4 seconds RetCode: 0 Status: OK PackageFile: spikeLI_2.67.0.tar.gz PackageFileSize: 393.6 KiB