Package: spikeLI Version: 2.67.0 Command: /Library/Frameworks/R.framework/Resources/bin/R CMD check --install=check:spikeLI.install-out.txt --library=/Library/Frameworks/R.framework/Resources/library --no-vignettes --timings spikeLI_2.67.0.tar.gz StartedAt: 2025-02-03 23:33:29 -0500 (Mon, 03 Feb 2025) EndedAt: 2025-02-03 23:34:00 -0500 (Mon, 03 Feb 2025) EllapsedTime: 31.0 seconds RetCode: 0 Status: OK CheckDir: spikeLI.Rcheck Warnings: 0