Package: spikeLI Version: 2.67.0 Command: /Library/Frameworks/R.framework/Resources/bin/R CMD INSTALL spikeLI StartedAt: 2025-02-03 15:08:35 -0500 (Mon, 03 Feb 2025) EndedAt: 2025-02-03 15:08:51 -0500 (Mon, 03 Feb 2025) EllapsedTime: 15.7 seconds RetCode: 0 Status: OK