Package: spikeLI Version: 2.67.0 Command: /home/biocbuild/bbs-3.21-bioc/R/bin/R CMD build --keep-empty-dirs --no-resave-data spikeLI StartedAt: 2025-02-09 19:25:36 -0500 (Sun, 09 Feb 2025) EndedAt: 2025-02-09 19:25:42 -0500 (Sun, 09 Feb 2025) EllapsedTime: 6.0 seconds RetCode: 0 Status: OK PackageFile: spikeLI_2.67.0.tar.gz PackageFileSize: 393.8 KiB