Package: spikeLI Version: 2.67.0 Command: /home/biocbuild/bbs-3.21-bioc/R/bin/R CMD check --install=check:spikeLI.install-out.txt --library=/home/biocbuild/bbs-3.21-bioc/R/site-library --timings spikeLI_2.67.0.tar.gz StartedAt: 2025-02-10 02:59:06 -0500 (Mon, 10 Feb 2025) EndedAt: 2025-02-10 02:59:27 -0500 (Mon, 10 Feb 2025) EllapsedTime: 21.0 seconds RetCode: 0 Status: OK CheckDir: spikeLI.Rcheck Warnings: 0