Package: spikeLI Version: 2.67.0 Command: /home/biocbuild/bbs-3.21-bioc/R/bin/R CMD INSTALL spikeLI StartedAt: 2025-02-03 15:12:29 -0500 (Mon, 03 Feb 2025) EndedAt: 2025-02-03 15:12:43 -0500 (Mon, 03 Feb 2025) EllapsedTime: 13.6 seconds RetCode: 0 Status: OK