Package: spikeLI Version: 2.67.0 Command: rm -rf spikeLI.buildbin-libdir && mkdir spikeLI.buildbin-libdir && E:\biocbuild\bbs-3.21-bioc\R\bin\R.exe CMD INSTALL --build --library=spikeLI.buildbin-libdir spikeLI_2.67.0.tar.gz StartedAt: 2025-02-04 09:00:45 -0500 (Tue, 04 Feb 2025) EndedAt: 2025-02-04 09:00:55 -0500 (Tue, 04 Feb 2025) EllapsedTime: 10.0 seconds RetCode: 0 Status: OK PackageFile: spikeLI_2.67.0.zip PackageFileSize: 318 KiB