Package: spikeLI Version: 2.67.0 Command: E:\biocbuild\bbs-3.21-bioc\R\bin\R.exe CMD check --no-multiarch --install=check:spikeLI.install-out.txt --library=E:\biocbuild\bbs-3.21-bioc\R\library --no-vignettes --timings spikeLI_2.67.0.tar.gz StartedAt: 2025-02-10 05:46:43 -0500 (Mon, 10 Feb 2025) EndedAt: 2025-02-10 05:47:16 -0500 (Mon, 10 Feb 2025) EllapsedTime: 32.7 seconds RetCode: 0 Status: OK CheckDir: spikeLI.Rcheck Warnings: 0