Package: spiky Version: 1.13.0 Command: rm -rf spiky.buildbin-libdir && mkdir spiky.buildbin-libdir && /Users/biocbuild/BBS/utils/build-universal.sh spiky_1.13.0.tar.gz /Library/Frameworks/R.framework/Resources/bin/R spiky.buildbin-libdir StartedAt: 2025-02-04 22:34:00 -0500 (Tue, 04 Feb 2025) EndedAt: 2025-02-04 22:34:19 -0500 (Tue, 04 Feb 2025) EllapsedTime: 19.4 seconds RetCode: 0 Status: OK PackageFile: spiky_1.13.0.tgz PackageFileSize: 15.24 MiB