Package: spiky Version: 1.13.0 Command: /Library/Frameworks/R.framework/Resources/bin/R CMD build --keep-empty-dirs --no-resave-data spiky StartedAt: 2025-02-09 17:42:26 -0500 (Sun, 09 Feb 2025) EndedAt: 2025-02-09 17:43:09 -0500 (Sun, 09 Feb 2025) EllapsedTime: 43.5 seconds RetCode: 0 Status: OK PackageFile: spiky_1.13.0.tar.gz PackageFileSize: 14.31 MiB