Package: spiky Version: 1.13.0 Command: /Library/Frameworks/R.framework/Resources/bin/R CMD check --install=check:spiky.install-out.txt --library=/Library/Frameworks/R.framework/Resources/library --no-vignettes --timings spiky_1.13.0.tar.gz StartedAt: 2025-02-04 21:35:06 -0500 (Tue, 04 Feb 2025) EndedAt: 2025-02-04 21:37:03 -0500 (Tue, 04 Feb 2025) EllapsedTime: 117.3 seconds RetCode: 0 Status: OK CheckDir: spiky.Rcheck Warnings: 0