Package: spiky Version: 1.13.0 Command: /Library/Frameworks/R.framework/Resources/bin/R CMD INSTALL spiky StartedAt: 2025-02-04 15:20:33 -0500 (Tue, 04 Feb 2025) EndedAt: 2025-02-04 15:20:50 -0500 (Tue, 04 Feb 2025) EllapsedTime: 16.5 seconds RetCode: 0 Status: OK