Package: spiky Version: 1.13.0 Command: /home/biocbuild/R/R/bin/R CMD build --keep-empty-dirs --no-resave-data spiky StartedAt: 2025-01-28 02:40:45 -0000 (Tue, 28 Jan 2025) EndedAt: 2025-01-28 02:43:03 -0000 (Tue, 28 Jan 2025) EllapsedTime: 138.1 seconds RetCode: 0 Status: OK PackageFile: spiky_1.13.0.tar.gz PackageFileSize: 14.31 MiB