Package: spiky Version: 1.13.0 Command: /home/biocbuild/R/R/bin/R CMD check --install=check:spiky.install-out.txt --library=/home/biocbuild/R/R/site-library --no-vignettes --timings spiky_1.13.0.tar.gz StartedAt: 2025-01-28 15:40:11 -0000 (Tue, 28 Jan 2025) EndedAt: 2025-01-28 15:46:51 -0000 (Tue, 28 Jan 2025) EllapsedTime: 400.5 seconds RetCode: 0 Status: OK CheckDir: spiky.Rcheck Warnings: 0