Package: spiky Version: 1.13.0 Command: /home/biocbuild/R/R/bin/R CMD INSTALL spiky StartedAt: 2025-01-29 20:17:27 -0000 (Wed, 29 Jan 2025) EndedAt: 2025-01-29 20:18:23 -0000 (Wed, 29 Jan 2025) EllapsedTime: 55.8 seconds RetCode: 0 Status: OK