Package: spiky Version: 1.13.0 Command: rm -rf spiky.buildbin-libdir && mkdir spiky.buildbin-libdir && /Users/biocbuild/BBS/utils/build-universal.sh spiky_1.13.0.tar.gz /Library/Frameworks/R.framework/Resources/bin/R spiky.buildbin-libdir StartedAt: 2025-02-10 01:18:36 -0500 (Mon, 10 Feb 2025) EndedAt: 2025-02-10 01:19:35 -0500 (Mon, 10 Feb 2025) EllapsedTime: 59.2 seconds RetCode: 0 Status: OK PackageFile: spiky_1.13.0.tgz PackageFileSize: 15.24 MiB