Package: spiky Version: 1.13.0 Command: /Library/Frameworks/R.framework/Resources/bin/R CMD build --keep-empty-dirs --no-resave-data spiky StartedAt: 2025-02-09 18:35:08 -0500 (Sun, 09 Feb 2025) EndedAt: 2025-02-09 18:37:01 -0500 (Sun, 09 Feb 2025) EllapsedTime: 113.0 seconds RetCode: 0 Status: OK PackageFile: spiky_1.13.0.tar.gz PackageFileSize: 14.31 MiB