Package: spiky Version: 1.13.0 Command: /Library/Frameworks/R.framework/Resources/bin/R CMD INSTALL spiky StartedAt: 2025-02-09 15:32:50 -0500 (Sun, 09 Feb 2025) EndedAt: 2025-02-09 15:33:44 -0500 (Sun, 09 Feb 2025) EllapsedTime: 54.5 seconds RetCode: 0 Status: OK