Package: spiky Version: 1.13.0 Command: /home/biocbuild/bbs-3.21-bioc/R/bin/R CMD build --keep-empty-dirs --no-resave-data spiky StartedAt: 2025-02-09 19:25:42 -0500 (Sun, 09 Feb 2025) EndedAt: 2025-02-09 19:27:21 -0500 (Sun, 09 Feb 2025) EllapsedTime: 99.1 seconds RetCode: 0 Status: OK PackageFile: spiky_1.13.0.tar.gz PackageFileSize: 14.31 MiB