Package: spiky Version: 1.13.0 Command: /home/biocbuild/bbs-3.21-bioc/R/bin/R CMD check --install=check:spiky.install-out.txt --library=/home/biocbuild/bbs-3.21-bioc/R/site-library --timings spiky_1.13.0.tar.gz StartedAt: 2025-02-04 03:05:52 -0500 (Tue, 04 Feb 2025) EndedAt: 2025-02-04 03:11:46 -0500 (Tue, 04 Feb 2025) EllapsedTime: 354.4 seconds RetCode: 0 Status: OK CheckDir: spiky.Rcheck Warnings: 0