Package: spiky Version: 1.13.0 Command: rm -rf spiky.buildbin-libdir && mkdir spiky.buildbin-libdir && E:\biocbuild\bbs-3.21-bioc\R\bin\R.exe CMD INSTALL --build --library=spiky.buildbin-libdir spiky_1.13.0.tar.gz StartedAt: 2025-02-10 08:47:35 -0500 (Mon, 10 Feb 2025) EndedAt: 2025-02-10 08:48:38 -0500 (Mon, 10 Feb 2025) EllapsedTime: 63.5 seconds RetCode: 0 Status: OK PackageFile: spiky_1.13.0.zip PackageFileSize: 15.23 MiB